BEGIN:VCALENDAR
VERSION:2.0
PRODID:-//Office for Regional Conference Ministries - ECPv6.15.20//NONSGML v1.0//EN
CALSCALE:GREGORIAN
METHOD:PUBLISH
X-ORIGINAL-URL:https://adventistregionalministries.org
X-WR-CALDESC:Events for Office for Regional Conference Ministries
REFRESH-INTERVAL;VALUE=DURATION:PT1H
X-Robots-Tag:noindex
X-PUBLISHED-TTL:PT1H
BEGIN:VTIMEZONE
TZID:America/Chicago
BEGIN:DAYLIGHT
TZOFFSETFROM:-0600
TZOFFSETTO:-0500
TZNAME:CDT
DTSTART:20180311T080000
END:DAYLIGHT
BEGIN:STANDARD
TZOFFSETFROM:-0500
TZOFFSETTO:-0600
TZNAME:CST
DTSTART:20181104T070000
END:STANDARD
BEGIN:DAYLIGHT
TZOFFSETFROM:-0600
TZOFFSETTO:-0500
TZNAME:CDT
DTSTART:20190310T080000
END:DAYLIGHT
BEGIN:STANDARD
TZOFFSETFROM:-0500
TZOFFSETTO:-0600
TZNAME:CST
DTSTART:20191103T070000
END:STANDARD
BEGIN:DAYLIGHT
TZOFFSETFROM:-0600
TZOFFSETTO:-0500
TZNAME:CDT
DTSTART:20200308T080000
END:DAYLIGHT
BEGIN:STANDARD
TZOFFSETFROM:-0500
TZOFFSETTO:-0600
TZNAME:CST
DTSTART:20201101T070000
END:STANDARD
END:VTIMEZONE
BEGIN:VEVENT
DTSTART;VALUE=DATE:20190201
DTEND;VALUE=DATE:20190204
DTSTAMP:20260424T064104
CREATED:20180917T205346Z
LAST-MODIFIED:20180917T205346Z
UID:1115-1548979200-1549238399@adventistregionalministries.org
SUMMARY:Black History Weekend
DESCRIPTION:Speaker: Pastor Michael Kelly
URL:https://adventistregionalministries.org/event/black-history-weekend/
LOCATION:Walla Walla University\, 204 South College Avenue\, College Place\, WA\, 99324\, United States
CATEGORIES:Event
END:VEVENT
BEGIN:VEVENT
DTSTART;VALUE=DATE:20190202
DTEND;VALUE=DATE:20190204
DTSTAMP:20260424T064104
CREATED:20181219T221442Z
LAST-MODIFIED:20181219T221442Z
UID:1379-1549065600-1549238399@adventistregionalministries.org
SUMMARY:SCC Health Ministry Weekend
DESCRIPTION:
URL:https://adventistregionalministries.org/event/scc-health-ministry-weekend/
LOCATION:Montgomery\, Montgomery\, AL\, United States
CATEGORIES:South Central Conference
END:VEVENT
BEGIN:VEVENT
DTSTART;VALUE=DATE:20190203
DTEND;VALUE=DATE:20190207
DTSTAMP:20260424T064104
CREATED:20181219T221533Z
LAST-MODIFIED:20181219T221533Z
UID:1382-1549152000-1549497599@adventistregionalministries.org
SUMMARY:SWRC Pastor’s In-Service Training
DESCRIPTION:
URL:https://adventistregionalministries.org/event/swrc-pastors-in-service-training/
LOCATION:TX
CATEGORIES:Southwest Region Conference
END:VEVENT
END:VCALENDAR