BEGIN:VCALENDAR
VERSION:2.0
PRODID:-//Office for Regional Conference Ministries - ECPv6.15.20//NONSGML v1.0//EN
CALSCALE:GREGORIAN
METHOD:PUBLISH
X-WR-CALNAME:Office for Regional Conference Ministries
X-ORIGINAL-URL:https://adventistregionalministries.org
X-WR-CALDESC:Events for Office for Regional Conference Ministries
REFRESH-INTERVAL;VALUE=DURATION:PT1H
X-Robots-Tag:noindex
X-PUBLISHED-TTL:PT1H
BEGIN:VTIMEZONE
TZID:America/Chicago
BEGIN:DAYLIGHT
TZOFFSETFROM:-0600
TZOFFSETTO:-0500
TZNAME:CDT
DTSTART:20180311T080000
END:DAYLIGHT
BEGIN:STANDARD
TZOFFSETFROM:-0500
TZOFFSETTO:-0600
TZNAME:CST
DTSTART:20181104T070000
END:STANDARD
BEGIN:DAYLIGHT
TZOFFSETFROM:-0600
TZOFFSETTO:-0500
TZNAME:CDT
DTSTART:20190310T080000
END:DAYLIGHT
BEGIN:STANDARD
TZOFFSETFROM:-0500
TZOFFSETTO:-0600
TZNAME:CST
DTSTART:20191103T070000
END:STANDARD
BEGIN:DAYLIGHT
TZOFFSETFROM:-0600
TZOFFSETTO:-0500
TZNAME:CDT
DTSTART:20200308T080000
END:DAYLIGHT
BEGIN:STANDARD
TZOFFSETFROM:-0500
TZOFFSETTO:-0600
TZNAME:CST
DTSTART:20201101T070000
END:STANDARD
END:VTIMEZONE
BEGIN:VEVENT
DTSTART;VALUE=DATE:20191020
DTEND;VALUE=DATE:20191022
DTSTAMP:20260422T104947
CREATED:20181119T051036Z
LAST-MODIFIED:20181119T051036Z
UID:1316-1571529600-1571702399@adventistregionalministries.org
SUMMARY:Oakwood University Board of Trustees Meeting
DESCRIPTION:
URL:https://adventistregionalministries.org/event/oakwood-university-board-of-trustees-meeting-2/
LOCATION:Huntsville\, Alabama
CATEGORIES:Meetings
END:VEVENT
BEGIN:VEVENT
DTSTART;TZID=America/Chicago:20191021T170000
DTEND;TZID=America/Chicago:20191021T190000
DTSTAMP:20260422T104947
CREATED:20190815T222939Z
LAST-MODIFIED:20190815T222939Z
UID:1698-1571677200-1571684400@adventistregionalministries.org
SUMMARY:Regional Presidents Council Pre-Board Meeting
DESCRIPTION:
URL:https://adventistregionalministries.org/event/regional-presidents-council-pre-board-meeting/
LOCATION:TX
CATEGORIES:Meetings
END:VEVENT
END:VCALENDAR