BEGIN:VCALENDAR
VERSION:2.0
PRODID:-//Office for Regional Conference Ministries - ECPv6.15.20//NONSGML v1.0//EN
CALSCALE:GREGORIAN
METHOD:PUBLISH
X-WR-CALNAME:Office for Regional Conference Ministries
X-ORIGINAL-URL:https://adventistregionalministries.org
X-WR-CALDESC:Events for Office for Regional Conference Ministries
REFRESH-INTERVAL;VALUE=DURATION:PT1H
X-Robots-Tag:noindex
X-PUBLISHED-TTL:PT1H
BEGIN:VTIMEZONE
TZID:America/Chicago
BEGIN:DAYLIGHT
TZOFFSETFROM:-0600
TZOFFSETTO:-0500
TZNAME:CDT
DTSTART:20230312T080000
END:DAYLIGHT
BEGIN:STANDARD
TZOFFSETFROM:-0500
TZOFFSETTO:-0600
TZNAME:CST
DTSTART:20231105T070000
END:STANDARD
BEGIN:DAYLIGHT
TZOFFSETFROM:-0600
TZOFFSETTO:-0500
TZNAME:CDT
DTSTART:20240310T080000
END:DAYLIGHT
BEGIN:STANDARD
TZOFFSETFROM:-0500
TZOFFSETTO:-0600
TZNAME:CST
DTSTART:20241103T070000
END:STANDARD
BEGIN:DAYLIGHT
TZOFFSETFROM:-0600
TZOFFSETTO:-0500
TZNAME:CDT
DTSTART:20250309T080000
END:DAYLIGHT
BEGIN:STANDARD
TZOFFSETFROM:-0500
TZOFFSETTO:-0600
TZNAME:CST
DTSTART:20251102T070000
END:STANDARD
END:VTIMEZONE
BEGIN:VEVENT
DTSTART;VALUE=DATE:20240621
DTEND;VALUE=DATE:20240630
DTSTAMP:20260422T134728
CREATED:20240409T142153Z
LAST-MODIFIED:20240521T155338Z
UID:4382-1718928000-1719705599@adventistregionalministries.org
SUMMARY:Lake Region Conference Camp Meeting 2024 "Sowing Seeds"
DESCRIPTION:June 21-29\, 2024 \n \nLake Region Conference Camp Meeting 2024 “Sowing Seeds” \nJune 21-29\, 2024 \nInspiring worship programs\, uplifting concerts and wonderful fellowship. \nCamp Wagner \n19088 Brownsville St\, \nCassopolis\, MI 49031
URL:https://adventistregionalministries.org/event/lake-region-conference-camp-meeting-2024-sowing-seeds/
LOCATION:Camp Wagner\, 19860 South LA Grange RD\, Mokena\, IL\, 60448\, United States
CATEGORIES:Lake Region Conference
ORGANIZER;CN="Lake Region Conference":MAILTO:LRC@LRCSDA.COM
END:VEVENT
BEGIN:VEVENT
DTSTART;VALUE=DATE:20240623
DTEND;VALUE=DATE:20240701
DTSTAMP:20260422T134728
CREATED:20240610T223408Z
LAST-MODIFIED:20240610T223408Z
UID:4691-1719100800-1719791999@adventistregionalministries.org
SUMMARY:South Atlantic Conference- Junior Summer Camp 2024
DESCRIPTION:
URL:https://adventistregionalministries.org/event/south-atlantic-conference-junior-summer-camp-2024/
LOCATION:Orangeburg\, SC\, Orangeburg\, SC\, United States
CATEGORIES:South Atlantic Conference
ORGANIZER;CN="South Atlantic Conference":MAILTO:cmcroy@sacsda.org
END:VEVENT
END:VCALENDAR