BEGIN:VCALENDAR
VERSION:2.0
PRODID:-//Office for Regional Conference Ministries - ECPv6.15.20//NONSGML v1.0//EN
CALSCALE:GREGORIAN
METHOD:PUBLISH
X-WR-CALNAME:Office for Regional Conference Ministries
X-ORIGINAL-URL:https://adventistregionalministries.org
X-WR-CALDESC:Events for Office for Regional Conference Ministries
REFRESH-INTERVAL;VALUE=DURATION:PT1H
X-Robots-Tag:noindex
X-PUBLISHED-TTL:PT1H
BEGIN:VTIMEZONE
TZID:America/Chicago
BEGIN:DAYLIGHT
TZOFFSETFROM:-0600
TZOFFSETTO:-0500
TZNAME:CDT
DTSTART:20230312T080000
END:DAYLIGHT
BEGIN:STANDARD
TZOFFSETFROM:-0500
TZOFFSETTO:-0600
TZNAME:CST
DTSTART:20231105T070000
END:STANDARD
BEGIN:DAYLIGHT
TZOFFSETFROM:-0600
TZOFFSETTO:-0500
TZNAME:CDT
DTSTART:20240310T080000
END:DAYLIGHT
BEGIN:STANDARD
TZOFFSETFROM:-0500
TZOFFSETTO:-0600
TZNAME:CST
DTSTART:20241103T070000
END:STANDARD
BEGIN:DAYLIGHT
TZOFFSETFROM:-0600
TZOFFSETTO:-0500
TZNAME:CDT
DTSTART:20250309T080000
END:DAYLIGHT
BEGIN:STANDARD
TZOFFSETFROM:-0500
TZOFFSETTO:-0600
TZNAME:CST
DTSTART:20251102T070000
END:STANDARD
END:VTIMEZONE
BEGIN:VEVENT
DTSTART;VALUE=DATE:20241011
DTEND;VALUE=DATE:20241014
DTSTAMP:20260423T140718
CREATED:20240528T201844Z
LAST-MODIFIED:20240528T203142Z
UID:4610-1728604800-1728863999@adventistregionalministries.org
SUMMARY:Northeastern Conference Women's Retreat - Women on a Mission
DESCRIPTION:Northeastern Conference Women’s Retreat – Women on a Mission\n\n\n\n\n\nThe Northeastern Conference Women’s Ministries invites you to our 2024 retreat\, where women come together to celebrate God’s amazing grace and love in their lives. It is an awesome ministry opportunity to invite friends\, family\, and co-workers to be part of a spiritual experience in praise and worship inspired by the retreat theme\, “Women on a Mission!” \n\n\nGuest Speaker: Pastor Lola Moore Johnston \n\nDate: October 11-13 2024 \nLocation: Ashore Resort & Beach Club. 10100 Coastal Hwy\, Ocean City\, MD 21842
URL:https://adventistregionalministries.org/event/northeastern-womens-retreat-women-on-a-mission/
LOCATION:Ashore Resort and Beach Club\, 10100 Coastal Hwy\, Ocean City\, MD\, 21842\, United States
CATEGORIES:Northeastern Conference
ORGANIZER;CN="Northeastern Conference":MAILTO:info@northeastern.org
END:VEVENT
BEGIN:VEVENT
DTSTART;VALUE=DATE:20241011
DTEND;VALUE=DATE:20241014
DTSTAMP:20260423T140718
CREATED:20240617T170301Z
LAST-MODIFIED:20240617T170301Z
UID:4728-1728604800-1728863999@adventistregionalministries.org
SUMMARY:Southeastern Conference Women's Ministries "Loved & Chosen" Retreat 2024- Fill us
DESCRIPTION:Southeastern Conference Women’s Ministries “Loved & Chosen” Retreat 2024- Fill us\n \nDate: October 11-13\, 2024 \nKeynote Speaker: Pastor Anastasia Ferguson-Bansie\, Associate Pastor Children and Youth Outreach Atholton Seventh-Day Adventist Church Maryland \nMusicians: Gale Jones Murphy\, Recording artist and composer\, and Norlan and Annia Mena “Strings of Worship” \nLocation: Embassy Suites by Hilton Tampa USF Near Busch Gardens. 3705 Spectrum Boulevard Tampa\, Florida 33612 USA \n 
URL:https://adventistregionalministries.org/event/southeastern-conference-womens-ministries-loved-chosen-retreat-2024-fill-us/
LOCATION:Embassy Suites by Hilton Tampa USF Near Busch Gardens\, 3705 Spectrum Boulevard\, Tampa\, FL\, 33612\, United States
CATEGORIES:Southeastern Conference
ORGANIZER;CN="Southeastern Conference":MAILTO:Communications@secsda.org
END:VEVENT
BEGIN:VEVENT
DTSTART;VALUE=DATE:20241011
DTEND;VALUE=DATE:20241014
DTSTAMP:20260423T140718
CREATED:20240729T154022Z
LAST-MODIFIED:20240801T143525Z
UID:5006-1728604800-1728863999@adventistregionalministries.org
SUMMARY:Allegheny West Conference - Stack Conference
DESCRIPTION:Allegheny West Conference – Stack Conference\n \nDate: October 11-13\, 2024 \nSpeakers: Corey Johnson\, John A. Coaxum\, and Lawrence Souffrant\, among others. \nLocation: Grace Community Seventh-Day Adventist Church. 26100 Euclid Ave\, Euclid\, OH 44132 \n 
URL:https://adventistregionalministries.org/event/allegheny-west-conference-stack-conference/
LOCATION:Grace Community SDA Church\, 26100 Euclid Ave.\, Euclid\, OH\, 44132\, United States
CATEGORIES:Allegheny West Conference
END:VEVENT
END:VCALENDAR