BEGIN:VCALENDAR
VERSION:2.0
PRODID:-//Office for Regional Conference Ministries - ECPv6.15.20//NONSGML v1.0//EN
CALSCALE:GREGORIAN
METHOD:PUBLISH
X-WR-CALNAME:Office for Regional Conference Ministries
X-ORIGINAL-URL:https://adventistregionalministries.org
X-WR-CALDESC:Events for Office for Regional Conference Ministries
REFRESH-INTERVAL;VALUE=DURATION:PT1H
X-Robots-Tag:noindex
X-PUBLISHED-TTL:PT1H
BEGIN:VTIMEZONE
TZID:America/Chicago
BEGIN:DAYLIGHT
TZOFFSETFROM:-0600
TZOFFSETTO:-0500
TZNAME:CDT
DTSTART:20230312T080000
END:DAYLIGHT
BEGIN:STANDARD
TZOFFSETFROM:-0500
TZOFFSETTO:-0600
TZNAME:CST
DTSTART:20231105T070000
END:STANDARD
BEGIN:DAYLIGHT
TZOFFSETFROM:-0600
TZOFFSETTO:-0500
TZNAME:CDT
DTSTART:20240310T080000
END:DAYLIGHT
BEGIN:STANDARD
TZOFFSETFROM:-0500
TZOFFSETTO:-0600
TZNAME:CST
DTSTART:20241103T070000
END:STANDARD
BEGIN:DAYLIGHT
TZOFFSETFROM:-0600
TZOFFSETTO:-0500
TZNAME:CDT
DTSTART:20250309T080000
END:DAYLIGHT
BEGIN:STANDARD
TZOFFSETFROM:-0500
TZOFFSETTO:-0600
TZNAME:CST
DTSTART:20251102T070000
END:STANDARD
END:VTIMEZONE
BEGIN:VEVENT
DTSTART;VALUE=DATE:20241025
DTEND;VALUE=DATE:20241027
DTSTAMP:20260425T182550
CREATED:20240528T204748Z
LAST-MODIFIED:20240528T204748Z
UID:4624-1729814400-1729987199@adventistregionalministries.org
SUMMARY:BAYDA Bible Bowl National Championship
DESCRIPTION:BAYDA Bible Bowl National Championship\n  \nThe 2024 games will be held Friday\, October 25th and Sabbath\, October 26th\, 2024 at the College SDA Church located at 337 Main Street\, South Lancaster\, MA 01561. This venue is located approximately 45 miles west of Boston\, MA near the campus of Atlantic Union College.
URL:https://adventistregionalministries.org/event/bayda-bible-bowl-national-championship/
LOCATION:College SDA Church\, 337 Main Street\, South Lancaster\, MA\, 01561\, United States
CATEGORIES:BAYDA
END:VEVENT
END:VCALENDAR