BEGIN:VCALENDAR
VERSION:2.0
PRODID:-//Office for Regional Conference Ministries - ECPv6.15.20//NONSGML v1.0//EN
CALSCALE:GREGORIAN
METHOD:PUBLISH
X-ORIGINAL-URL:https://adventistregionalministries.org
X-WR-CALDESC:Events for Office for Regional Conference Ministries
REFRESH-INTERVAL;VALUE=DURATION:PT1H
X-Robots-Tag:noindex
X-PUBLISHED-TTL:PT1H
BEGIN:VTIMEZONE
TZID:America/Chicago
BEGIN:DAYLIGHT
TZOFFSETFROM:-0600
TZOFFSETTO:-0500
TZNAME:CDT
DTSTART:20200308T080000
END:DAYLIGHT
BEGIN:STANDARD
TZOFFSETFROM:-0500
TZOFFSETTO:-0600
TZNAME:CST
DTSTART:20201101T070000
END:STANDARD
BEGIN:DAYLIGHT
TZOFFSETFROM:-0600
TZOFFSETTO:-0500
TZNAME:CDT
DTSTART:20210314T080000
END:DAYLIGHT
BEGIN:STANDARD
TZOFFSETFROM:-0500
TZOFFSETTO:-0600
TZNAME:CST
DTSTART:20211107T070000
END:STANDARD
BEGIN:DAYLIGHT
TZOFFSETFROM:-0600
TZOFFSETTO:-0500
TZNAME:CDT
DTSTART:20220313T080000
END:DAYLIGHT
BEGIN:STANDARD
TZOFFSETFROM:-0500
TZOFFSETTO:-0600
TZNAME:CST
DTSTART:20221106T070000
END:STANDARD
BEGIN:DAYLIGHT
TZOFFSETFROM:-0600
TZOFFSETTO:-0500
TZNAME:CDT
DTSTART:20230312T080000
END:DAYLIGHT
BEGIN:STANDARD
TZOFFSETFROM:-0500
TZOFFSETTO:-0600
TZNAME:CST
DTSTART:20231105T070000
END:STANDARD
BEGIN:DAYLIGHT
TZOFFSETFROM:-0600
TZOFFSETTO:-0500
TZNAME:CDT
DTSTART:20240310T080000
END:DAYLIGHT
BEGIN:STANDARD
TZOFFSETFROM:-0500
TZOFFSETTO:-0600
TZNAME:CST
DTSTART:20241103T070000
END:STANDARD
BEGIN:DAYLIGHT
TZOFFSETFROM:-0600
TZOFFSETTO:-0500
TZNAME:CDT
DTSTART:20250309T080000
END:DAYLIGHT
BEGIN:STANDARD
TZOFFSETFROM:-0500
TZOFFSETTO:-0600
TZNAME:CST
DTSTART:20251102T070000
END:STANDARD
BEGIN:DAYLIGHT
TZOFFSETFROM:-0600
TZOFFSETTO:-0500
TZNAME:CDT
DTSTART:20260308T080000
END:DAYLIGHT
BEGIN:STANDARD
TZOFFSETFROM:-0500
TZOFFSETTO:-0600
TZNAME:CST
DTSTART:20261101T070000
END:STANDARD
END:VTIMEZONE
BEGIN:VEVENT
DTSTART;TZID=America/Chicago:20251004T163000
DTEND;TZID=America/Chicago:20251004T180000
DTSTAMP:20260420T080314
CREATED:20240618T171629Z
LAST-MODIFIED:20251001T162900Z
UID:4739-1759595400-1759600800@adventistregionalministries.org
SUMMARY:First Sabbath Series - New Faces
DESCRIPTION:ONLINE -First Sabbath Series – Telling Our Story XXI \n  \nNew Faces \n. \n  \nThis month\, we’re highlighting the new faces in our conferences! Join us as we talk with:Furman Fordham\, President-elect\, South Central ConferenceCryston Josiah\, President\, Central States ConferenceJoseph Ikner\, VP of Administration\, Central States Conference \n. \n  \nHOSTS \n  \nDana C. Edmond \n  \nRebekah Jackson \n  \nGerson Pancorbo \n  \nCOMING SOON
URL:https://adventistregionalministries.org/event/new-faces-2/
LOCATION:Online\, AL\, United States
CATEGORIES:Event,Virtual
ATTACH;FMTTYPE=image/jpeg:https://adventistregionalministries.org/wp-content/uploads/2024/06/First-Sabbath-Series-October-25.jpg
END:VEVENT
BEGIN:VEVENT
DTSTART;TZID=America/Chicago:20250719T163000
DTEND;TZID=America/Chicago:20250719T180000
DTSTAMP:20260420T080314
CREATED:20240716T153209Z
LAST-MODIFIED:20250719T161005Z
UID:4969-1752942600-1752948000@adventistregionalministries.org
SUMMARY:First Sabbath Series - General Conference
DESCRIPTION:ONLINE -First Sabbath Series – Telling Our Story XXVII \nGeneral Conference 2025 \nJuly 2025 \n  \nHOSTS \n  \nRebekah Jackson \n  \nDana C. Edmond \n  \nGerson Pancorbo \n  \nCLICK HERE TO SEE LIVESTREAM
URL:https://adventistregionalministries.org/event/gc25/
LOCATION:Online\, AL\, United States
CATEGORIES:Event,Virtual
ATTACH;FMTTYPE=image/jpeg:https://adventistregionalministries.org/wp-content/uploads/2024/07/First-Sabbath-Series-July-25.jpg
END:VEVENT
BEGIN:VEVENT
DTSTART;TZID=America/Chicago:20240601T163000
DTEND;TZID=America/Chicago:20240601T180000
DTSTAMP:20260420T080314
CREATED:20240506T190013Z
LAST-MODIFIED:20240506T190013Z
UID:4517-1717259400-1717264800@adventistregionalministries.org
SUMMARY:First Sabbath Series - 80 Years Anniversary
DESCRIPTION:ONLINE -First Sabbath Series – Telling Our Story X \n  \n80 years Anniversary of Regional Conferences \n. \n  \nIn 1944\, church leaders met at the Hotel Stevens in Chicago for the General Conference Spring Meeting. After vigorous discussions about the propriety of black-run conferences\, the body took a vote and approved Regional Conferences. \n. \n  \nHOSTS \n  \nDana C. Edmond \n  \nRebekah Jackson \n  \nGerson Pancorbo \n  \nCLICK HERE TO SEE LIVESTREAM
URL:https://adventistregionalministries.org/event/first-sabbath-series-80-years-regional/
LOCATION:Online\, AL\, United States
CATEGORIES:Event,Virtual
ATTACH;FMTTYPE=image/jpeg:https://adventistregionalministries.org/wp-content/uploads/2024/05/First-Sabbath-June-24.jpg
END:VEVENT
BEGIN:VEVENT
DTSTART;TZID=America/Chicago:20240504T163000
DTEND;TZID=America/Chicago:20240504T180000
DTSTAMP:20260420T080314
CREATED:20240408T142357Z
LAST-MODIFIED:20240408T142357Z
UID:4359-1714840200-1714845600@adventistregionalministries.org
SUMMARY:First Sabbath Series - Regional Press
DESCRIPTION:ONLINE -First Sabbath Series – Telling Our Story IX \n  \nRegional PRESS – Message Magazine & Regional Voice. \n. \n  \nAmplifying Black voices\, celebrating cultural heritage\, addressing specific community issues\, and providing representation and inspiration. \n. \n  \nHOSTS \n  \nDana C. Edmond \n  \nRebekah Jackson \n  \nGerson Pancorbo \n  \nCLICK HERE TO SEE LIVESTREAM
URL:https://adventistregionalministries.org/event/regional-press/
LOCATION:Online\, AL\, United States
CATEGORIES:Event,Virtual
ATTACH;FMTTYPE=image/jpeg:https://adventistregionalministries.org/wp-content/uploads/2024/04/First-Sabbath-Series-May-24.jpg
END:VEVENT
BEGIN:VEVENT
DTSTART;TZID=America/Chicago:20240406T163000
DTEND;TZID=America/Chicago:20240406T180000
DTSTAMP:20260420T080314
CREATED:20240401T215828Z
LAST-MODIFIED:20240404T182257Z
UID:4296-1712421000-1712426400@adventistregionalministries.org
SUMMARY:First Sabbath Series - Presidents Round Table
DESCRIPTION:ONLINE -First Sabbath Series – Telling Our Story VIII \n  \nPRESIDENTS Round Table with the Regional Presidents Council Members. \n  \nPowerful insights straight from the presidents of the Regional Conferences Council themselves. \n  \nHOSTS \n  \nDana C. Edmond \n  \nRebekah Jackson \n  \nGerson Pancorbo \n  \nCLICK HERE TO SEE LIVESTREAM
URL:https://adventistregionalministries.org/event/first-sabbath-series-presidents-round-table/
LOCATION:Online\, AL\, United States
CATEGORIES:Event,Virtual
ATTACH;FMTTYPE=image/jpeg:https://adventistregionalministries.org/wp-content/uploads/2024/04/First-Sabbath-Series-24-April.jpg
END:VEVENT
BEGIN:VEVENT
DTSTART;VALUE=DATE:20210924
DTEND;VALUE=DATE:20210926
DTSTAMP:20260420T080314
CREATED:20210831T160503Z
LAST-MODIFIED:20210831T160503Z
UID:3181-1632441600-1632614399@adventistregionalministries.org
SUMMARY:CJC Virtual 2021 Convention
DESCRIPTION:
URL:https://adventistregionalministries.org/event/cjc-virtual-2021-convention/
LOCATION:AL
CATEGORIES:Virtual
ATTACH;FMTTYPE=image/jpeg:https://adventistregionalministries.org/wp-content/uploads/2021/08/cjc-virtual-convention.jpeg
END:VEVENT
BEGIN:VEVENT
DTSTART;VALUE=DATE:20210916
DTEND;VALUE=DATE:20210919
DTSTAMP:20260420T080314
CREATED:20210831T155952Z
LAST-MODIFIED:20210831T161733Z
UID:3177-1631750400-1632009599@adventistregionalministries.org
SUMMARY:Crosswalk in the city
DESCRIPTION:UMC Revised Poster-Regional Ministries
URL:https://adventistregionalministries.org/event/crosswalk-in-the-city/
LOCATION:AL
CATEGORIES:Virtual
ATTACH;FMTTYPE=image/jpeg:https://adventistregionalministries.org/wp-content/uploads/2021/08/crosswalk.jpeg
END:VEVENT
BEGIN:VEVENT
DTSTART;TZID=America/Chicago:20210710T163000
DTEND;TZID=America/Chicago:20210710T180000
DTSTAMP:20260420T080314
CREATED:20210408T222638Z
LAST-MODIFIED:20210705T184928Z
UID:2912-1625934600-1625940000@adventistregionalministries.org
SUMMARY:First Sabbath Series
DESCRIPTION:
URL:https://adventistregionalministries.org/event/first-sabbath-series/
LOCATION:AL
CATEGORIES:Virtual
ATTACH;FMTTYPE=image/jpeg:https://adventistregionalministries.org/wp-content/uploads/2021/07/1st-sabbath.jpeg
END:VEVENT
BEGIN:VEVENT
DTSTART;TZID=America/Chicago:20210227T163000
DTEND;TZID=America/Chicago:20210227T173000
DTSTAMP:20260420T080314
CREATED:20210224T230126Z
LAST-MODIFIED:20210224T230126Z
UID:2883-1614443400-1614447000@adventistregionalministries.org
SUMMARY:This is Our Story Too
DESCRIPTION:
URL:https://adventistregionalministries.org/event/this-is-our-story-too/
LOCATION:AL
CATEGORIES:Virtual
ATTACH;FMTTYPE=image/png:https://adventistregionalministries.org/wp-content/uploads/2021/02/This-Is-Our-Story-Too_Alvin-Kibble_2021-Feb-273.png
END:VEVENT
END:VCALENDAR